BEGIN:VCALENDAR
VERSION:2.0
PRODID:-//AudioTheme 1.6.1
BEGIN:VEVENT
UID:https://jazzinmartinborough.co.nz/?post_type=audiotheme_gig&#038;p=2244
URL:https://jazzinmartinborough.co.nz/2019-festival-programme/2018-08-31-2/
DTSTART;TZID=GMT:20180831T010000
SUMMARY:Kidz Stuff
LOCATION:Kuranui College Auditorium\, East Street\, Greytown\, 
END:VEVENT
END:VCALENDAR