BEGIN:VCALENDAR
VERSION:2.0
PRODID:-//AudioTheme 1.6.1
BEGIN:VEVENT
UID:https://jazzinmartinborough.co.nz/?post_type=audiotheme_gig&#038;p=2256
URL:https://jazzinmartinborough.co.nz/2019-festival-programme/2018-09-01-3/
DTSTART;TZID=GMT:20190830T000000
SUMMARY:Kate & Bob
LOCATION:The Wine Bank\, 1-3 Memorial Square\, Martinborough\, 
END:VEVENT
END:VCALENDAR