BEGIN:VCALENDAR
VERSION:2.0
PRODID:-//AudioTheme 1.6.1
BEGIN:VEVENT
UID:https://jazzinmartinborough.co.nz/?post_type=audiotheme_gig&#038;p=2253
URL:https://jazzinmartinborough.co.nz/2019-festival-programme/2018-09-01-6/
DTSTART;TZID=GMT:20190831T000000
SUMMARY:Remutaka All Stars Dixie Swing Band
LOCATION:Martinborough Brewery\, 10 Ohio Street\, Martinborough\, 
END:VEVENT
END:VCALENDAR