BEGIN:VCALENDAR
VERSION:2.0
PRODID:-//AudioTheme 1.6.1
BEGIN:VEVENT
UID:https://jazzinmartinborough.co.nz/?post_type=audiotheme_gig&#038;p=2254
URL:https://jazzinmartinborough.co.nz/2019-festival-programme/2018-09-01-7/
DTSTART;TZID=GMT:20190831T020000
SUMMARY:Gypsy Swing - Sam Cooke and Leigh Jackson
LOCATION:Circus Cinema Restaurant Bar\, 34 Jellicoe St\, Martinborough\, 
END:VEVENT
END:VCALENDAR