BEGIN:VCALENDAR
VERSION:2.0
PRODID:-//AudioTheme 1.6.1
BEGIN:VEVENT
UID:https://jazzinmartinborough.co.nz/?post_type=audiotheme_gig&#038;p=2237
URL:https://jazzinmartinborough.co.nz/2019-festival-programme/2018-09-01-9/
DTSTART;TZID=GMT:20180831T223000
SUMMARY:Intuition
LOCATION:The Village Cafe\, 6 Kitchener Street\, Martinborough
END:VEVENT
END:VCALENDAR