BEGIN:VCALENDAR
VERSION:2.0
PRODID:-//AudioTheme 1.6.1
BEGIN:VEVENT
UID:https://jazzinmartinborough.co.nz/?post_type=audiotheme_gig&#038;p=2248
URL:https://jazzinmartinborough.co.nz/2019-festival-programme/2018-09-01/
DTSTART;TZID=GMT:20180901T060000
SUMMARY:Callum Riach Trio feat. Courtney Naera
LOCATION:Medici Cafe\, 9 Kitchener Street\, Martinborough\, 
END:VEVENT
END:VCALENDAR