BEGIN:VCALENDAR
VERSION:2.0
PRODID:-//AudioTheme 1.6.1
BEGIN:VEVENT
UID:https://jazzinmartinborough.co.nz/?post_type=audiotheme_gig&#038;p=2255
URL:https://jazzinmartinborough.co.nz/2019-festival-programme/2018-09-02-2/
DTSTART;TZID=GMT:20190901T000000
SUMMARY:Martinborough Community Choir
LOCATION:Martinborough Town Hall\, Martinborough Square
END:VEVENT
END:VCALENDAR