BEGIN:VCALENDAR
VERSION:2.0
PRODID:-//AudioTheme 1.6.1
BEGIN:VEVENT
UID:https://jazzinmartinborough.co.nz/?post_type=audiotheme_gig&#038;p=2496
URL:https://jazzinmartinborough.co.nz/2019-festival-programme/2019-08-31/
DTSTART;TZID=GMT:20190831T101500
SUMMARY:Callum Riach Trio - Featuring Patrick Bleakley
LOCATION:Mesita\, 14 Ohio Street\, Martinborough
END:VEVENT
END:VCALENDAR