BEGIN:VCALENDAR
VERSION:2.0
PRODID:-//AudioTheme 1.6.1
BEGIN:VEVENT
UID:https://jazzinmartinborough.co.nz/?post_type=audiotheme_gig&#038;p=2492
URL:https://jazzinmartinborough.co.nz/2019-festival-programme/callum-riach-trio-2/
DTSTART;TZID=GMT:20190829T053000
SUMMARY:Callum Riach Duo
LOCATION:The Village Cafe\, 6 Kitchener Street\, Martinborough
END:VEVENT
END:VCALENDAR