BEGIN:VCALENDAR
VERSION:2.0
PRODID:-//AudioTheme 1.6.1
BEGIN:VEVENT
UID:https://jazzinmartinborough.co.nz/?post_type=audiotheme_gig&#038;p=2494
URL:https://jazzinmartinborough.co.nz/2019-festival-programme/callum-riach-trio-featuring-courtney-naera/
DTSTART;TZID=GMT:20190830T060000
SUMMARY:Courtney Valerie Trio
LOCATION:Medici Cafe\, 9 Kitchener Street\, Martinborough\, 
END:VEVENT
END:VCALENDAR