BEGIN:VCALENDAR
VERSION:2.0
PRODID:-//AudioTheme 1.6.1
BEGIN:VEVENT
UID:https://jazzinmartinborough.co.nz/?post_type=audiotheme_gig&#038;p=2642
URL:https://jazzinmartinborough.co.nz/2019-festival-programme/collge-combo-3/
DTSTART;TZID=GMT:20190831T231500
SUMMARY:College Combo #3
LOCATION:The Village Cafe\, 6 Kitchener Street\, Martinborough
END:VEVENT
END:VCALENDAR