BEGIN:VCALENDAR
VERSION:2.0
PRODID:-//AudioTheme 1.6.1
BEGIN:VEVENT
UID:https://jazzinmartinborough.co.nz/?post_type=audiotheme_gig&#038;p=2495
URL:https://jazzinmartinborough.co.nz/2019-festival-programme/gig-2495/
DTSTART;TZID=GMT:20190831T060000
SUMMARY:Courtney Valerie Trio
LOCATION:Medici Cafe\, 9 Kitchener Street\, Martinborough\, 
END:VEVENT
END:VCALENDAR