BEGIN:VCALENDAR
VERSION:2.0
PRODID:-//AudioTheme 1.6.1
BEGIN:VEVENT
UID:https://jazzinmartinborough.co.nz/?post_type=audiotheme_gig&#038;p=2502
URL:https://jazzinmartinborough.co.nz/2019-festival-programme/gypsy-jam-trio-4/
DTSTART;TZID=GMT:20190831T000000
SUMMARY:Gypsy Jam Trio
LOCATION:The Wine Bank\, 1-3 Memorial Square\, Martinborough\, 
END:VEVENT
END:VCALENDAR