BEGIN:VCALENDAR
VERSION:2.0
PRODID:-//AudioTheme 1.6.1
BEGIN:VEVENT
UID:https://jazzinmartinborough.co.nz/?post_type=audiotheme_gig&#038;p=2583
URL:https://jazzinmartinborough.co.nz/2019-festival-programme/in2ition-4/
DTSTART;TZID=GMT:20190830T080000
SUMMARY:In2ition
LOCATION:Union Square\, Memorial Square\, Martinborough\, 
END:VEVENT
END:VCALENDAR