BEGIN:VCALENDAR
VERSION:2.0
PRODID:-//AudioTheme 1.6.1
BEGIN:VEVENT
UID:https://jazzinmartinborough.co.nz/?post_type=audiotheme_gig&#038;p=2660
URL:https://jazzinmartinborough.co.nz/2019-festival-programme/in2ition-duo/
DTSTART;TZID=GMT:20190831T001500
SUMMARY:In2ition
LOCATION:Cool Change\, 8 Memorial Square\, Martinborough\, 
END:VEVENT
END:VCALENDAR