BEGIN:VCALENDAR
VERSION:2.0
PRODID:-//AudioTheme 1.6.1
BEGIN:VEVENT
UID:https://jazzinmartinborough.co.nz/?post_type=audiotheme_gig&#038;p=2477
URL:https://jazzinmartinborough.co.nz/2019-festival-programme/jan-preston-88-pianos/
DTSTART;TZID=GMT:20190830T000000
SUMMARY:Jan Preston - 88 Pianos I Have Known
LOCATION:Martinborough Town Hall\, Martinborough Square
END:VEVENT
END:VCALENDAR