BEGIN:VCALENDAR
VERSION:2.0
PRODID:-//AudioTheme 1.6.1
BEGIN:VEVENT
UID:https://jazzinmartinborough.co.nz/?post_type=audiotheme_gig&#038;p=2501
URL:https://jazzinmartinborough.co.nz/2019-festival-programme/kids-jazz-concert/
DTSTART;TZID=GMT:20190830T010000
SUMMARY:Kid's Jazz Concert
LOCATION:Kuranui College Auditorium\, East Street\, Greytown\, 
END:VEVENT
END:VCALENDAR