BEGIN:VCALENDAR
VERSION:2.0
PRODID:-//AudioTheme 1.6.1
BEGIN:VEVENT
UID:https://jazzinmartinborough.co.nz/?post_type=audiotheme_gig&#038;p=2238
URL:https://jazzinmartinborough.co.nz/2019-festival-programme/miho-wada-trio/
DTSTART;TZID=GMT:20180901T003000
SUMMARY:Miho Wada Trio
LOCATION:The Village Cafe\, 6 Kitchener Street\, Martinborough
END:VEVENT
END:VCALENDAR