BEGIN:VCALENDAR
VERSION:2.0
PRODID:-//AudioTheme 1.6.1
BEGIN:VEVENT
UID:https://jazzinmartinborough.co.nz/?post_type=audiotheme_gig&#038;p=2265
URL:https://jazzinmartinborough.co.nz/2019-festival-programme/noir-5/
DTSTART;TZID=GMT:20190831T040000
SUMMARY:Noir
LOCATION:Peppers Parehua\, 52 New York Street West\, Martinborough\, 
END:VEVENT
END:VCALENDAR