BEGIN:VCALENDAR
VERSION:2.0
PRODID:-//AudioTheme 1.6.1
BEGIN:VEVENT
UID:https://jazzinmartinborough.co.nz/?post_type=audiotheme_gig&#038;p=2476
URL:https://jazzinmartinborough.co.nz/2019-festival-programme/nzsm-big-band/
DTSTART;TZID=GMT:20190829T000000
SUMMARY:NZSM Big Band - Music Director Rodger Fox
LOCATION:Martinborough Town Hall\, Martinborough Square
END:VEVENT
END:VCALENDAR