BEGIN:VCALENDAR
VERSION:2.0
PRODID:-//AudioTheme 1.6.1
BEGIN:VEVENT
UID:https://jazzinmartinborough.co.nz/?post_type=audiotheme_gig&#038;p=2235
URL:https://jazzinmartinborough.co.nz/2019-festival-programme/ravens-trio/
DTSTART;TZID=GMT:20190829T230000
SUMMARY:Raven’s Trio - Kate, Cindy, Anja
LOCATION:The Village Cafe\, 6 Kitchener Street\, Martinborough
END:VEVENT
END:VCALENDAR