BEGIN:VCALENDAR
VERSION:2.0
PRODID:-//AudioTheme 1.6.1
BEGIN:VEVENT
UID:https://jazzinmartinborough.co.nz/?post_type=audiotheme_gig&#038;p=2497
URL:https://jazzinmartinborough.co.nz/2019-festival-programme/stephanie-bishop-and-chris-yeabsley/
DTSTART;TZID=GMT:20190830T063000
SUMMARY:Stephanie Bishop and Chris Yeabsley
LOCATION:Pinocchio\, 3 Kitchener Street\, Martinborough\, 
END:VEVENT
END:VCALENDAR