BEGIN:VCALENDAR
VERSION:2.0
PRODID:-//AudioTheme 1.6.1
BEGIN:VEVENT
UID:https://jazzinmartinborough.co.nz/?post_type=audiotheme_gig&#038;p=2478
URL:https://jazzinmartinborough.co.nz/2019-festival-programme/the-zak-pack/
DTSTART;TZID=GMT:20190831T000000
SUMMARY:The Zak Pack - Let's Misbehave
LOCATION:Martinborough Town Hall\, Martinborough Square
END:VEVENT
END:VCALENDAR