BEGIN:VCALENDAR
VERSION:2.0
PRODID:-//AudioTheme 1.6.1
BEGIN:VEVENT
UID:https://jazzinmartinborough.co.nz/?post_type=audiotheme_gig&#038;p=2503
URL:https://jazzinmartinborough.co.nz/2019-festival-programme/zak-pack-trio/
DTSTART;TZID=GMT:20190901T020000
SUMMARY:Zak Pack Trio
LOCATION:Union Square\, Memorial Square\, Martinborough\, 
END:VEVENT
END:VCALENDAR