BEGIN:VCALENDAR
VERSION:2.0
PRODID:-//AudioTheme 1.6.1
BEGIN:VEVENT
UID:https://jazzinmartinborough.co.nz/?post_type=audiotheme_gig&#038;p=2250
URL:https://jazzinmartinborough.co.nz/lovelocal/2018-09-01-4/
DTSTART;TZID=GMT:20190831T000000
SUMMARY:Stephanie Bishop & Chris Yeabsley
LOCATION:Pinocchio Piazza
END:VEVENT
END:VCALENDAR