BEGIN:VCALENDAR
VERSION:2.0
PRODID:-//AudioTheme 1.6.1
BEGIN:VEVENT
UID:https://jazzinmartinborough.co.nz/?post_type=audiotheme_gig&#038;p=2771
URL:https://jazzinmartinborough.co.nz/lovelocal/2020-09-04/
DTSTART;TZID=GMT:20200904T073000
SUMMARY:Fiona Pears Trio
LOCATION:The Village Cafe\, 6 Kitchener Street\, Martinborough
END:VEVENT
END:VCALENDAR