BEGIN:VCALENDAR
VERSION:2.0
PRODID:-//AudioTheme 1.6.1
BEGIN:VEVENT
UID:https://jazzinmartinborough.co.nz/?post_type=audiotheme_gig&#038;p=2824
URL:https://jazzinmartinborough.co.nz/lovelocal/fresh-jam/
DTSTART;TZID=GMT:20200814T060000
SUMMARY:Fresh Jam: College Jazz
LOCATION:Kuranui College Auditorium\, East Street\, Greytown\, 
END:VEVENT
END:VCALENDAR