BEGIN:VCALENDAR
VERSION:2.0
PRODID:-//AudioTheme 1.6.1
BEGIN:VEVENT
UID:https://jazzinmartinborough.co.nz/?post_type=audiotheme_gig&#038;p=2773
URL:https://jazzinmartinborough.co.nz/lovelocal/gig-2773/
DTSTART;TZID=GMT:20200905T073000
SUMMARY:The Wellington City Shake-’Em-On-Downers
LOCATION:The Village Cafe\, 6 Kitchener Street\, Martinborough
END:VEVENT
END:VCALENDAR