BEGIN:VCALENDAR
VERSION:2.0
PRODID:-//AudioTheme 1.6.1
BEGIN:VEVENT
UID:https://jazzinmartinborough.co.nz/?post_type=audiotheme_gig&#038;p=1052
URL:https://jazzinmartinborough.co.nz/lovelocal/katenbob2/
DTSTART;TZID=GMT:20160903T000000
SUMMARY:Kate & Bob
LOCATION:Greytown Library Forecourt
END:VEVENT
END:VCALENDAR